BEGIN:VCALENDAR
VERSION:2.0
CALSCALE:GREGORIAN
PRODID:-//MyApp//Calendar 1.0//EN
BEGIN:VEVENT
METHOD:PUBLISH
UID:64089@regionalniportaly.cz
DTSTAMP:20260423T165814Z
DTSTART;VALUE=DATE:20260425
DTEND;VALUE=DATE:20260426
SUMMARY:Zvuková lázeň (sound healing) & hluboká relaxace a uvolnění
DESCRIPTION:✨ MUZIKOTERAPIE S KŘIŠŤÁLOVÝMI MÍSAMI &amp\; VEDENÁ MEDITACE v Říčanech u Prahy&nbsp\;✨Dopřejte si večer hlubokého odpočinku\, zklidnění a jemné péče o tělo i mysl.&nbsp\;Zveme vás na relaxační setkání\, kde vás léčivé vibrace křišťálových mís provedou uvolněním napětí\, zpomalením mysli a návratem k vnitřní harmonii. Zvuk prostupuje celým prostorem i tělem a vytváří bezpečný prostor pro regeneraci a skutečný odpočinek.Součástí večera je vedená meditace\, která vás podpoří v propojení se sebou samými a hlubším vnímání přítomného okamžiku.Během setkání si navíc budete moci na některé léčivé nástroje sami zahrát🗓 Kdy: sobota 25.4.2026 od 17&nbsp\;hodin⏳ Délka: 90 minut📍 Kde: Cvičební sál V Říčanech u Prahy\, Lípová 446/3 - viz obrázek\, (parkování v ulici Černokostelecká 165/95)Nutná rezervace předem! Počet míst je omezen.🌿 Jak setkání probíhá?Po většinu času pouze ležíte\, odpočíváte a necháváte se unášet léčivými tóny a vedenou meditací.🧘 Co s sebou?&nbsp\;Ve studiu je pouze omezený počet podložek (12 ks). Pokud máte vlastní podložku\, prosím vezměte si ji s sebou. Deky jsou k&nbsp\;dispozici\, stačí tedy pohodlné oblečení\, ponožky. V&nbsp\;Pro větší komfort si můžete přinést polštářek a masku&nbsp\;na oči.✨ Vhodné i pro úplné začátečníky – není potřeba žádná předchozí zkušenost.Těším se na společné ztišení&nbsp\;🤍Hana Seidlová &amp\; Melodie duše&nbsp\;&nbsp\; &nbsp\; &nbsp\; &nbsp\; &nbsp\; &nbsp\; &nbsp\; &nbsp\; &nbsp\; &nbsp\; &nbsp\; &nbsp\; &nbsp\; &nbsp\; &nbsp\; &nbsp\; &nbsp\; &nbsp\; &nbsp\; &nbsp\; &nbsp\; &nbsp\; &nbsp\; &nbsp\; &nbsp\; &nbsp\; &nbsp\; &nbsp\; &nbsp\; &nbsp\; &nbsp\; &nbsp\; &nbsp\; &nbsp\; &nbsp\; &nbsp\; &nbsp\; &nbsp\; &nbsp\; &nbsp\; certifikovaná muzikoterapeutka📧&nbsp\;info@melodieduse.cz📞 703&nbsp\;140 512#muzikoterapie #meditace #relaxace #Říčany&nbsp\;#vedenameditace #soundhealing&nbsp\;
LOCATION:Říčany
END:VEVENT
END:VCALENDAR