BEGIN:VCALENDAR
VERSION:2.0
CALSCALE:GREGORIAN
PRODID:-//MyApp//Calendar 1.0//EN
BEGIN:VEVENT
METHOD:PUBLISH
UID:62118@regionalniportaly.cz
DTSTAMP:20260419T200538Z
DTSTART;VALUE=DATE:20260606
DTEND;VALUE=DATE:20260607
SUMMARY:Doubek City Fight Night 3
DESCRIPTION:Galavečer profesionálního a amatérského boxu pod širým nebem
LOCATION:Úvaly
END:VEVENT
END:VCALENDAR