BEGIN:VCALENDAR
VERSION:2.0
CALSCALE:GREGORIAN
PRODID:-//MyApp//Calendar 1.0//EN
BEGIN:VEVENT
METHOD:PUBLISH
UID:61329@regionalniportaly.cz
DTSTAMP:20260421T204720Z
DTSTART;VALUE=DATE:20251221
DTEND;VALUE=DATE:20251222
SUMMARY:O Vánoční vločce
DESCRIPTION:Pohádkový příběh pro celou rodinu o sněhové vločce\, která spadne na to samé místo na planetě Zemi\, jako před desítkami let. Příběh se odehrává o Vánocích a je protkán koledami a vzpomínkami na tradiční vánoční zvyky.\nPřijďte se na chvíli zastavit v předvánočním čase a máte-li\, vezměte s sebou malý zvoneček\, bude se hodit.\n \nHraje: Divadelní ochotnický spolek Jirny\nZpěvem doprovází: žáci ZŠ Jirny pod vedením Jany Nové\nNámět: Kateřina Krylová\nScénář a režie: Petr Hudský\n \nVstupné: 100 Kč\nMísta v sále nejsou číslována.
LOCATION:Jirny
END:VEVENT
END:VCALENDAR