BEGIN:VCALENDAR
VERSION:2.0
CALSCALE:GREGORIAN
PRODID:-//MyApp//Calendar 1.0//EN
BEGIN:VEVENT
METHOD:PUBLISH
UID:59040@regionalniportaly.cz
DTSTAMP:20260421T100852Z
DTSTART;VALUE=DATE:20260310
DTEND;VALUE=DATE:20260311
SUMMARY:Na ocet
DESCRIPTION:&nbsp\;Svižná komedie o dvou smolařích a nepřízni osudu\, ale s docela slibným koncem. Jana a Michal jsou dva životní smolaři\, kteří zůstali „na ocet.“ Michal je rozvedený neúspěšný obchodní zástupce\, otec Jonatana\, Jana je svobodná matka šestnácti leté dcery Lucie. Ač se děti na scéně nikdy neobjeví\, hrají v životě každého z nich důležitou roli. Změní láska jejich životy k lepšímu nebo jim je ještě více zamotá?&nbsp\;Účinkující:&nbsp\;Jan Dolanský\, Lenka Vlasáková&nbsp\;Délka představení: 1 hodina 40 minutPřestávka: AnoPremiéra: 15. února 2024Autor: Donald ChurchillPřeklad: Marta SkarlandtováRežie: Pavel ŠimákFotografie: Martin ŠimralProdukce: JT PROMOTION s.r.o.&nbsp\;&nbsp\;
LOCATION:Čelákovice
END:VEVENT
END:VCALENDAR