BEGIN:VCALENDAR
VERSION:2.0
CALSCALE:GREGORIAN
PRODID:-//MyApp//Calendar 1.0//EN
BEGIN:VEVENT
METHOD:PUBLISH
UID:59025@regionalniportaly.cz
DTSTAMP:20260421T220048Z
DTSTART;VALUE=DATE:20260204
DTEND;VALUE=DATE:20260205
SUMMARY:Přání
DESCRIPTION:Herce Janu Paulovou a Marka Němce přivádí poprvé na společné jeviště původní komedie od Romana Vencla\, jednoho z&nbsp\;nejhranějších českých autorů současnosti.Hra Přání je plná jiskřivých slovních výměn a výborně vystavěných i překvapivých situací. Je vtipná\, současně jímavá a křehká. Vypráví příběh o tom\, že přání se plní. I ta nejtajnější. Dokonce i ta\, která se splnit snad ani neměla…Jeden hotelový pokoj\, v něm dva vzájemně si cizí lidé a velmi netradiční přání\, které se zdá být posledním. To je výchozí situace autorské komedie\, která vznikla tak říkajíc přímo na tělo oblíbené komediální herečce Janě Paulové u příležitosti jejího životního jubilea.Přání je tak dárkem všem divákům\, kteří si oblíbili její neodolatelný smysl pro humor\, nevyčerpatelnou životní energii a úžasnou nonšalantnost\, s jakou neúnavně a spolehlivě baví a okouzluje publikum napříč celou republikou.Jevištním partnerem jí je výborný televizní a divadelní herec\, ale také talentovaný režisér Marek Němec.Nechte se jejich prostřednictvím pobavit i dojmout.&nbsp\;Herecké obsazeníAnna:&nbsp\;Jana PaulováDavid:&nbsp\;Marek Němecostatní ženské role:&nbsp\;Klára Oltová&nbsp\;/&nbsp\;Vendula Wronkaostatní mužské role:&nbsp\;Ladislav Hampl&nbsp\;/&nbsp\;Roman VenclTvůrciAutor:&nbsp\;Roman VenclRežie:&nbsp\;Marek NěmecKostýmy:&nbsp\;Michaela ČervenkováScéna:&nbsp\;Jan KřížHudba:&nbsp\;Ondřej RychlýDélka představení:&nbsp\;125 minut včetně přestávky
LOCATION:Čelákovice
END:VEVENT
END:VCALENDAR