BEGIN:VCALENDAR
VERSION:2.0
CALSCALE:GREGORIAN
PRODID:-//MyApp//Calendar 1.0//EN
BEGIN:VEVENT
METHOD:PUBLISH
UID:58990@regionalniportaly.cz
DTSTAMP:20260422T005705Z
DTSTART;VALUE=DATE:20260224
DTEND;VALUE=DATE:20260225
SUMMARY:ČESKÉ PODSVĚTÍ - beseda s Josefem Klímou
DESCRIPTION:Autor populárního pořadu „Jak jsem přežil devadesátky“\, zakladatel investigativní žurnalistiky u nás Josef&nbsp\;Klíma&nbsp\;vypráví o divokých „devadesátkách“\, o tom\, jak se setkával s tehdejšími mocnými mafiány\, od Jonáka až po Krejčíře\, jak nebezpečné tehdy bylo být novinářem\, ale i tom\, jak se zločin mezitím proměnil.Odpovídá na otázky diváků\, které se mj. týkají i populárního seriálu „Sedm schodů k moci“ (TV Prima)\, k němuž ho jako scénáristu volně inspiroval případ Nagyová-Nečas.&nbsp\;&nbsp\;&nbsp\;
LOCATION:Čelákovice
END:VEVENT
END:VCALENDAR