BEGIN:VCALENDAR
VERSION:2.0
CALSCALE:GREGORIAN
PRODID:-//MyApp//Calendar 1.0//EN
BEGIN:VEVENT
METHOD:PUBLISH
UID:57541@regionalniportaly.cz
DTSTAMP:20260422T033828Z
DTSTART;VALUE=DATE:20251030
DTEND;VALUE=DATE:20251031
SUMMARY:Marie Tilšarová & Pavel Tilšar
DESCRIPTION:Zveme vás na koncert písničkářky Marie Tilšarové a Pavla Tilšara.Marie Tilšarová&nbsp\;- je autentická písničkářka s mottem „Co žiju\, zpívám\, co zpívám\, žiju“.&nbsp\;Skládá a hraje písně s jednoduchými a chytlavými melodiemi\, které oslovují srdce a vyprávějí příběhy\, jež zná každý z nás.&nbsp\;Pavel Tilšar - je doprovodným členem kapely\, zvládne hrát na basu\, bicí a v nepřítomnosti třetího člena kapely zastane i pozici "saxofonisty". To vše najednou :-). Je také autorem několika písní s mužským nábojem\, z nichž některé zcela jistě zazní.Přijďte si s námi zazpívat\, zatančnit a naladit se na krásnou vlnu pohody :-)&nbsp\;
LOCATION:Brandýs nad Labem-Stará Boleslav
END:VEVENT
END:VCALENDAR