BEGIN:VCALENDAR
VERSION:2.0
CALSCALE:GREGORIAN
PRODID:-//MyApp//Calendar 1.0//EN
BEGIN:VEVENT
METHOD:PUBLISH
UID:57187@regionalniportaly.cz
DTSTAMP:20260422T080245Z
DTSTART;VALUE=DATE:20250912
DTEND;VALUE=DATE:20250913
SUMMARY:Free festival.cz
DESCRIPTION:Osmý ročník rodinného festivalu v zámecké zahradě v Brandýse nad Labem.\nVstup v pátek je po celý den zdarma.\nNa sobotní program jsou vstupenky k dispozici v předprodeji i na  místě.\nLetošní rok opět se spoustou novinek. Součástí Free Festivalu bude Dožínkový jarmark a výstava historických vozidel. Startuje již v pátek 12. září 2025 od 16:00\, kdy zahrada bude patřit hlavně divadlu. Vrcholem bude představení Sluha dvou pánů. \nSobota 13. září 2025 bude patřit tradičnímu food festivalu\, rodinné zóně se zmrzlinovou vesničkou\, dožínkovému jarmarku a výstavě historických vozidel. Vystoupí hvězdy MasterChefa\, proběhnou soutěže v pojídání extrémně pálivých jídel a proběhne mistrovství ČR v tahání ubrousků z krabice.\nHudební program bude probíhat na dvou pódiích současně\, návštěvníci si tak mohou vybrat na co mají chuť. „Tahákem“ sobotního večera je Voxel s cimbálovkou\, Pekař a Fast Food Orchestra.
LOCATION:Brandýs nad Labem-Stará Boleslav
END:VEVENT
END:VCALENDAR