BEGIN:VCALENDAR
VERSION:2.0
CALSCALE:GREGORIAN
PRODID:-//MyApp//Calendar 1.0//EN
BEGIN:VEVENT
METHOD:PUBLISH
UID:56956@regionalniportaly.cz
DTSTAMP:20260422T081220Z
DTSTART;VALUE=DATE:20250830
DTEND;VALUE=DATE:20250831
SUMMARY:Probeak festival
DESCRIPTION:2. ročník festivalu Probeak a 15. ročník turnaje ve vybíjené - Poslední zůstává. Dopolední program začíná v 9:00\, turnaj ve 14:00\, trvání do cca. 1. ráno.\nProbošťská jezera\, U jezera 1331\, Stará Boleslav
LOCATION:Brandýs nad Labem-Stará Boleslav
END:VEVENT
END:VCALENDAR