BEGIN:VCALENDAR
VERSION:2.0
CALSCALE:GREGORIAN
PRODID:-//MyApp//Calendar 1.0//EN
BEGIN:VEVENT
METHOD:PUBLISH
UID:56951@regionalniportaly.cz
DTSTAMP:20260425T010428Z
DTSTART;VALUE=DATE:20250817
DTEND;VALUE=DATE:20250818
SUMMARY:Opera Gala Open Air 2025
DESCRIPTION:Kdy:17.8.2025 v 19:30\, Zámek\, Plantáž 402/8\, Brandýs nad Labem
LOCATION:Brandýs nad Labem-Stará Boleslav
END:VEVENT
END:VCALENDAR