BEGIN:VCALENDAR
VERSION:2.0
CALSCALE:GREGORIAN
PRODID:-//MyApp//Calendar 1.0//EN
BEGIN:VEVENT
METHOD:PUBLISH
UID:56950@regionalniportaly.cz
DTSTAMP:20260422T080838Z
DTSTART;VALUE=DATE:20250823
DTEND;VALUE=DATE:20250824
SUMMARY:Berenika a její Marty
DESCRIPTION:Jedinečný hudební projekt spojující charisma zpěvačky Bereniky Kohoutové s její ryze dívčí kapelou a ŠLÁGRY MARTY KUBIŠOVÉ. Tak nechte zvony znít!\nKdy:23.8.2025 v 19:00\, Zámek - nádvoří\, Plantáž 402/8\, Brandýs nad Labem\nVstupné v předprodeji 290 Kč\, na místě 390 Kč
LOCATION:Brandýs nad Labem-Stará Boleslav
END:VEVENT
END:VCALENDAR