BEGIN:VCALENDAR
VERSION:2.0
CALSCALE:GREGORIAN
PRODID:-//MyApp//Calendar 1.0//EN
BEGIN:VEVENT
METHOD:PUBLISH
UID:56188@regionalniportaly.cz
DTSTAMP:20260422T045233Z
DTSTART;VALUE=DATE:20250830
DTEND;VALUE=DATE:20250831
SUMMARY:probeak
DESCRIPTION:Zveme Vás na 2. ročník festivalu Probeak!Proběhne 30. srpna 2025 v areálu Proboštských jezer\, v Brandýse nad Labem - Staré Boleslavi. Můžete se těšit na 5 kapel různých žánrů\, 4 DJs a skvělou letní atmosféru. V areálu je občerstvení\, vodní atrakce pro děti\, Wake Park a mnoho dalšího!
LOCATION:Brandýs nad Labem-Stará Boleslav
END:VEVENT
END:VCALENDAR