BEGIN:VCALENDAR
VERSION:2.0
CALSCALE:GREGORIAN
PRODID:-//MyApp//Calendar 1.0//EN
BEGIN:VEVENT
METHOD:PUBLISH
UID:55817@regionalniportaly.cz
DTSTAMP:20260421T234622Z
DTSTART;VALUE=DATE:20251118
DTEND;VALUE=DATE:20251119
SUMMARY:Benefiční galakoncert
DESCRIPTION:Benefiční galakoncert - velkolepý večer\, kdy se snoubí mistrovské hudební zážitky s kouzelnou srdečnou atmosférou.Výtěžek z koncertu poputuje na transparentní účet komunitního centra Fara Čelákovice\, které podporuje sociální začlenění seniorů a pacientů s demencí\, vzdělává jejich blízké a pečuje o jejich mentální zdraví.Partnerem akce je firma TRŽAN lahůdky s.r.o\,&nbsp\;Adélčino - Květinářství v kavárněZažijte mimořádné hudební spojení napříč žánry. V rámci večera se harmonicky prolnou&nbsp\;nestárnoucí melodie české i zahraniční populární klasiky\, swingové rytmy plné elegance\, živé jazzové improvizace\, emocionální árie z operního světa i melodické klenoty z muzikálových pódií.&nbsp\;&nbsp\;Více než 40 fantastických muzikantů na jednom pódiu spojí své síly\, aby pomohli tím\, co umějí nejlépe.Felix Slováček jr. - všestranný umělec\, který vystudoval klarinet na Pražské konzervatoři a HAMU\, kde získal i&nbsp\;mnohá ocenění. Působil jako první klarinetista v Karlovarském symfonickém orchestru a nyní s mnoha dalšími orchestry spolupracuje jako sólista na klarinet\, saxofon i jako zpěvák. Kromě klasické hudby má zkušenosti s rockem\, swingem\, a účinkuje v několika divadelních představeních.&nbsp\;&nbsp\;Daniel Klánský - uznávaný operní pěvec\, laureát několika významných pěveckých soutěží\, včetně absolutního vítězství na Mezinárodní písňové soutěži B. Martinů. Od roku 2015 je stálým hostem opery Národního divadla v Praze a pravidelně vystupuje i v Divadle F. X. Šaldy v Liberci. Kromě sólové kariéry často spolupracuje s renomovanými orchestry a komorními soubory\, a to jak v České republice\, tak v zahraničí.&nbsp\;&nbsp\;Lenka Švestková -&nbsp\;vystudovala Konzervatoř Jaroslava Ježka v Praze\, kde své pěvecké dovednosti dovedla k dokonalosti. Během své kariéry dosáhla úspěchů\, mezi které patří účast v různých hudebních projektech a spolupráce s významnými hudebníky a tělesy. Její interpretace jsou ceněny pro osobitý projev a schopnost vnést do skladeb vlastní emoce. Díky svému talentu a píli si získala uznání publika i hudební kritiky.&nbsp\;&nbsp\;Zuzana Němcová Šmejkalová&nbsp\;-&nbsp\;všestranná umělkyně s rozmanitými hudebními zájmy. Její pěvecká cesta zahrnuje studium na konzervatoři a působení v různých hudebních a divadelních projektech. V současnosti se aktivně věnuje zpěvu v několika kapelách.&nbsp\;Kromě své umělecké činnosti se angažuje i jako producentka v soukromém i neziskovém sektoru. Její&nbsp\;výrazný hluboký hlas je jedním z charakteristických rysů jejího pěveckého projevu\, který s citlivostí uplatňuje v nejrůznějších žánrech.&nbsp\;&nbsp\;Doubravka Linhartová -&nbsp\;fenomenální&nbsp\;klavíristka\, jejíž vášeň pro hudbu se projevuje již od raného dětství. Její výjimečná virtuozita a hluboké hudební vnímání dozrály během studií na konzervatoři v Českých Budějovicích a Janáčkově akademii múzických umění v Brně. Její talent a mistrovství potvrdila řada úspěchů na prestižních mezinárodních klavírních soutěžích\, kde její interpretace pravidelně okouzlovaly odbornou porotu i široké publikum. V současnosti svou genialitu a vášeň pro hudbu předává dál jako pedagožka.Petr Kroutil je jednou z nejvýraznějších postav současné české jazzové a swingové scény. Je uznávaný jako excelentní saxofonista\, klarinetista\, flétnista a také jako zpěvák\, skladatel a kapelník\, jehož vystoupení jsou synonymem pro strhující a radostnou hudební show. Pro tento jedinečný večer se k Petru Kroutilovi připojí exkluzivní výběr těch nejlepších muzikantů z jeho Original Vintage Orchestra. Tato komorní\, virtuózní formace přinese to nejpoutavější z jejich muzikantských dovedností a repertoáru.&nbsp\;Vladimír Vlach -&nbsp\;uznávaný a zkušený moderátor\, jehož hlas a profesionální projev provázely diváky řadou úspěšných televizních pořadů České televize a dlouhá léta i populárním losováním Sportky a Šťastných 10. V současnosti působí s typickým šarmem a profesionalitou v Country radiu a zároveň zastává pozici executive directora v reklamní agentuře. Jeho vynikající komunikační schopnosti a kreativní talent se projevují i v jeho práci copywritera reklamních spotů a dabéra.&nbsp\;&nbsp\;Dětský sbor při ZŠ Palachova v Brandýse nad Labem -&nbsp\;nadšené a talentované pěvecké těleso\, které pod pečlivým a inspirativním vedením Doubravky Linhartové rozvíjí své hudební schopnosti a lásku ke zpěvu. Sbor pravidelně vystupuje na školních akcích i mimo ně\, kde s radostí předává svou energii a hudební nadšení posluchačům. Jejich repertoár je pestrý&nbsp\;a zahrnuje různé hudební žánry\, přičemž se nebojí ani náročnějších skladeb. Dlouholetá tradice sboru svědčí o jeho kvalitní práci a pozitivním vlivu na rozvoj hudebnosti dětí v regionu.&nbsp\;&nbsp\;
LOCATION:Čelákovice
END:VEVENT
END:VCALENDAR