BEGIN:VCALENDAR
VERSION:2.0
CALSCALE:GREGORIAN
PRODID:-//MyApp//Calendar 1.0//EN
BEGIN:VEVENT
METHOD:PUBLISH
UID:55545@regionalniportaly.cz
DTSTAMP:20260422T081147Z
DTSTART;VALUE=DATE:20250912
DTEND;VALUE=DATE:20250913
SUMMARY:FreeFestival 2025
DESCRIPTION:Osmý ročník rodinného festivalu v nádherné zámecké zahradě v Brandýse nad Labem.Letošní rok opět se spoustou novinek. Součástí FreeFestivalu bude skvělý Dožínkový Jarmark a výstava historických vozidel.Startujeme již v pátek 12.9.2025 od 16:00\, kdy zahrada bude patřit hlavně divadlu. Vrcholem bude představení Sluha Dvou Pánů\, vstup v pátek je po celý den ZDARMA.Sobota 13.9.2025 bude patřit tradičnímu food festivalu\, rodinné zóně se zmrzlinovou vesničkou\, dožínkovému jarmarku\, výstavě historických vozidel. Potkáme se s hvězdami MasterChefa\, zasoutěžíme v pojídání extrémně pálivých jídel a proběhne mistrovství ČR v tahání ubrousků z krabice.Hudební program bude probíhat na dvou pódiích současně\, můžete si tak vybrat na co máte chuť. Vrcholem sobotního večera bude Voxel s cimbálovkou\, Pekař a Fast Food Orchestra.
LOCATION:Brandýs nad Labem-Stará Boleslav
END:VEVENT
END:VCALENDAR