BEGIN:VCALENDAR
VERSION:2.0
CALSCALE:GREGORIAN
PRODID:-//MyApp//Calendar 1.0//EN
BEGIN:VEVENT
METHOD:PUBLISH
UID:55544@regionalniportaly.cz
DTSTAMP:20260422T063148Z
DTSTART;VALUE=DATE:20250905
DTEND;VALUE=DATE:20250906
SUMMARY:Noc Filmové Hudby 2025
DESCRIPTION:Další a opět ještě více propracovanější show\, která se koná pod širým nebem v amfiteátru letního kina Houštka ve Staré Boleslavi. Hudební těleso Big Evr Band se svými hosty a spřátelenými sbory vás provede hudebním filmovým světem ve spojení s projekcí doplněnou o audiovizuální\, světelné a pyrotechnické efekty.Celá show graduje se skvělým energickým výkonem kapelníka Josefa Popelky ml.\, který dokazuje\, že dirigent nemusí stát vždy jen na jednom místě.Představa\, že sedíte pod hvězdami\, posloucháte nádhernou živou hudbu umocněnou projekcí a popíjíte k tomu lahodné víno\, se tento den stane skutečností.Termíny:5.9.2025 20:00 předpremiéra6.9.2025 20:00 premiérawww.nocfilmovehudby.cz
LOCATION:Brandýs nad Labem-Stará Boleslav
END:VEVENT
END:VCALENDAR