BEGIN:VCALENDAR
VERSION:2.0
CALSCALE:GREGORIAN
PRODID:-//MyApp//Calendar 1.0//EN
BEGIN:VEVENT
METHOD:PUBLISH
UID:55333@regionalniportaly.cz
DTSTAMP:20260422T011947Z
DTSTART;VALUE=DATE:20251115
DTEND;VALUE=DATE:20251116
SUMMARY:Retro dance párty
DESCRIPTION:V rámci našeho největšího turné\, které bude zakončeno 20. 11. 2026 v O2 universum v Praze\, nemůžeme samozřejmě vynechat naše milované Čelákovice!RETRO DANCE PÁRTY&nbsp\;je šestihodinový disco ples těch největších hitů od sedmdesátých let až po milénium. Zkrátka od Abby přes Modern Talking až po Rihannu.Přijďte klidně v džínech\, ale nejlépe retro! Nejlepší dobové kostýmy budou odměněny v naší velké soutěži.&nbsp\;Hlavní cenou jsou dvě vstupenky na naši mega show do O2 universa v Praze!&nbsp\;Těšit se můžete na skvělý zvuk\, retro fotokoutek\, opět rozsáhlejší světelný park a hity našeho mládí v originálních verzích.Doba je zlá\, tak tancujme\, dokud můžeme!&nbsp\;Vstupné v předprodeji: 290 Kč. Vstupenky na stání za 350 Kč k dispozici na místě.Vstup od 19:30 hod.&nbsp\;&nbsp\;
LOCATION:Čelákovice
END:VEVENT
END:VCALENDAR