BEGIN:VCALENDAR
VERSION:2.0
CALSCALE:GREGORIAN
PRODID:-//MyApp//Calendar 1.0//EN
BEGIN:VEVENT
METHOD:PUBLISH
UID:54094@regionalniportaly.cz
DTSTAMP:20260422T014020Z
DTSTART;VALUE=DATE:20251025
DTEND;VALUE=DATE:20251026
SUMMARY:Monkey Business - Když múzy mlčí tour 2025
DESCRIPTION:&nbsp\;Motto:Když múzy mlčí\, to jest věru smutná chvíle\,leč ony pádný důvod mají:Ty dámy sličné neholdují krutosti a síle\,však duše křehké milují a objímají&nbsp\;V roce 2025 Monkey Business slaví 25 let dobrodružné plavby v rozbouřeném moři showbusinessu. Vyhnuvše se útesům podbízivých melodií\, zrádným mělčinám klišovitých textů a zdánlivě bezpečným zátokám pokleslých televizních pořadů\, kde obchází strašidlo playbacku\, pluje jejich fregata s větrem v zádech stále plnou parou vpřed. Připojte se k oslavám a navštivte koncert Monkey Business: &nbsp\;Když múzy mlčí tour 2025. Již brzy ve Vašem městě.&nbsp\;afterparty Dj Kharmahttps://www.youtube.com/watch?v=0z7fyNfuexE
LOCATION:Čelákovice
END:VEVENT
END:VCALENDAR