BEGIN:VCALENDAR
VERSION:2.0
CALSCALE:GREGORIAN
PRODID:-//MyApp//Calendar 1.0//EN
BEGIN:VEVENT
METHOD:PUBLISH
UID:53028@regionalniportaly.cz
DTSTAMP:20260422T123942Z
DTSTART;VALUE=DATE:20250422
DTEND;VALUE=DATE:20250423
SUMMARY:Dominika na cestě: Sama v Saudské Arábii
DESCRIPTION:Živé vyprávění české cestovatelky Dominiky Gawliczkové (znáte ji z australské cesty Žlutých trabantů jako motorkářku s Čezetou) o neobyčejné sólo cestě na motorce Saúdskou Arábií\, ale taky o Kuvajtu\, Bahrajnu a Kataru.
LOCATION:Brandýs nad Labem-Stará Boleslav
END:VEVENT
END:VCALENDAR