BEGIN:VCALENDAR
VERSION:2.0
CALSCALE:GREGORIAN
PRODID:-//MyApp//Calendar 1.0//EN
BEGIN:VEVENT
METHOD:PUBLISH
UID:53023@regionalniportaly.cz
DTSTAMP:20260422T154706Z
DTSTART;VALUE=DATE:20250403
DTEND;VALUE=DATE:20250531
SUMMARY:Výstava Rudolf II. OŽÍVÁ
DESCRIPTION:Výstava Vás zavede do běžně nepřístupných částí brandýského zámku\, do gotického sklepení\, štoly\, skleníku a alchymistické dílny. Těmito prostory i svým životem Vás provede digitální Rudolf II.\, kterého velmi podařeně ztvárnil syn nezapomenutelného Jana Wericha\, pan Jiří Werich Petrášek. Okouzlí Vás neopakovatelná atmosféra a zároveň se dozvíte i řadu méně známých faktů. \nTěšíme se na Vás!\n \nPři zakoupení vstupenek volíte buď samostatnou prohlídku/akci "Rudolf II. ožívá" nebo lze zakoupit v kombinaci se standardním prohlídkovým okruhem\, kdy je zvýhodněna cena této kombinace.  \n \nObsahuje průchod sklepením\, štolami\, schody - tato část není vhodná pro tělesně omezené osoby. \n 
LOCATION:Brandýs nad Labem-Stará Boleslav
END:VEVENT
END:VCALENDAR