BEGIN:VCALENDAR
VERSION:2.0
CALSCALE:GREGORIAN
PRODID:-//MyApp//Calendar 1.0//EN
BEGIN:VEVENT
METHOD:PUBLISH
UID:51682@regionalniportaly.cz
DTSTAMP:20260422T141505Z
DTSTART;VALUE=DATE:20250306
DTEND;VALUE=DATE:20250307
SUMMARY:Viktor Sodoma & Parní stroj
DESCRIPTION:V rámci oslav 80. narozenin Viktora Sodomy vás zveme na koncert do brandýského kina\, Karla Tájka 100/2\, Brandýs nad Labem.\nZazní nejslavnější písně\, které Viktor nazpíval a to jak s MATADORS\, tak i s kapelou Františka Ringo Čecha.\nNa úvod vás zahřeje pár písněmi doprovodná kapela Parní stroj a o milé povídání s Viktorem se postará Marie Tomsová.\nVstupné v předprodeji 200 Kč\, na místě 299 Kč\n 
LOCATION:Brandýs nad Labem-Stará Boleslav
END:VEVENT
END:VCALENDAR