BEGIN:VCALENDAR
VERSION:2.0
CALSCALE:GREGORIAN
PRODID:-//MyApp//Calendar 1.0//EN
BEGIN:VEVENT
METHOD:PUBLISH
UID:51681@regionalniportaly.cz
DTSTAMP:20260422T124207Z
DTSTART;VALUE=DATE:20250426
DTEND;VALUE=DATE:20250427
SUMMARY:Městský běh Brandýsem a Boleslaví
DESCRIPTION:REGISTRACE PRÁVĚ PROBÍHAJÍ!\n \nTři okruhy\, závody i pro ty nejmenší a program pro celou rodinu\, to je Městský běh Brandýsem a Boleslaví 2025. \nDopoledne bude v Panské zahradě opět patřit malým běžcům. Na start se nejprve postaví závodníci do 4 let\, kteří mohou běžet v doprovodu rodičů. Poté budou postupně startovat další kategorie podle věku.  \nRegistrace na Dětský běh budou spuštěny 26. března prostřednictvím on-line formuláře Brandýského Matýska: https://brandyskymatysek.webooker.eu/flutter/ \nVe 14.00 startuje závod dospělých. Pro zdatné běžce je připraven čtvrtmaraton nebo pětikilometrová trasa vedoucí centry obou našich měst a malebnými zákoutími lesoparku Houštka. Pokud je to pro vás příliš\, opět můžete zvolit pohodovou tříkilometrovou trasu. Závod na 3 km startuje ve 14:10. Vedle jednotlivců soutěží i týmy. Založte tedy svůj tým a poměřte síly s ostatními. Minimální počet členů v týmu jsou tři\, maximální hranice není stanovena. Počítají se vždy tři nejlepší časy. \nNa Městský běh Brandýsem a Boleslaví 2025 se již teď můžete registrovat on-line zde:https://irontime.cz/prihlaska3113 \nPo celý den budou v Panské zahradě připraveny stánky s občerstvením a zajímavý doprovodný program. \n 
LOCATION:Brandýs nad Labem-Stará Boleslav
END:VEVENT
END:VCALENDAR