BEGIN:VCALENDAR
VERSION:2.0
CALSCALE:GREGORIAN
PRODID:-//MyApp//Calendar 1.0//EN
BEGIN:VEVENT
METHOD:PUBLISH
UID:51680@regionalniportaly.cz
DTSTAMP:20260422T141553Z
DTSTART;VALUE=DATE:20250314
DTEND;VALUE=DATE:20250315
SUMMARY:Jordi Galcerán - Grönholmova metoda
DESCRIPTION:Napínavé drama současného španělského dramatika Jordiho Galcerana v podání divadelního spolku JIŘÍ Poděbrady\n \nPředstavení se odehraje v KINĚ\, Karla Tájka 100/2\, Brandýs nad Labem\n \nPředprodej vstupenek v INFOCENTRU KOČÁROVNA \n \nVstupné: 150 Kč\, možno platit i kartou\nHrají členové DS Jiří: Martin Daněk\, Martin Kočí\, Jana Langrová\, Helena Pěchová\, Martin Šípek\nÚprava divadelní hry\, výprava a režie: LADISLAV LANGR
LOCATION:Brandýs nad Labem-Stará Boleslav
END:VEVENT
END:VCALENDAR