BEGIN:VCALENDAR
VERSION:2.0
CALSCALE:GREGORIAN
PRODID:-//MyApp//Calendar 1.0//EN
BEGIN:VEVENT
METHOD:PUBLISH
UID:51599@regionalniportaly.cz
DTSTAMP:20260422T081049Z
DTSTART;VALUE=DATE:20250719
DTEND;VALUE=DATE:20250720
SUMMARY:ABBA SHOW  pod širým nebem | Houšťka
DESCRIPTION:ABBA WORLD Revival je desetičlenný soubor profesionálních hudebníků\, které spojuje obdiv k tvorbě světoznámé švédské skupiny ABBA.Tato tribute show patří mezi světovou špičku a přináší 100% živé vystoupení bez playbacků a half-playbacků.V repertoáru mají více než 30 nejznámějších hitů skupiny ABBA\, které jsou zahrány s takovou přesností\, že jsou téměř k nerozeznání od originálů. Celou show doplňují autentické dobové kostýmy\, image a choreografie.Díky svému charakteristickému zvuku a preciznímu hudebnímu provedení vystupuje ABBA WORLD Revival úspěšně po celé Evropě a oslovuje posluchače všech generací. Množství odehraných koncertů a léta úspěšné existence jsou toho nejlepším důkazem.
LOCATION:Brandýs nad Labem-Stará Boleslav
END:VEVENT
END:VCALENDAR