BEGIN:VCALENDAR
VERSION:2.0
CALSCALE:GREGORIAN
PRODID:-//MyApp//Calendar 1.0//EN
BEGIN:VEVENT
METHOD:PUBLISH
UID:50801@regionalniportaly.cz
DTSTAMP:20260422T124754Z
DTSTART;VALUE=DATE:20250424
DTEND;VALUE=DATE:20250425
SUMMARY:VYPRODÁNO - Na kus řeči s... Petrem Kostkou
DESCRIPTION:Legendární herec Petr Kostka\, člen Národního divadla v Praze\, současně i televizní a filmový umělec\, bude dalším hostem pořadu Na kus řeči s... a to 24.4.2025 v 19:00 v divadelním sále Zámku Brandýs nad Labem.Pan Petr Kostka se během své umělecké kariéry zařadil mezi výrazné a současně i nejpopulárnější osobnosti naší umělecké scény a setkání s ním slibuje výjimečný zážitek.\nPředprodej vstupenek v Infocentru Kočárovna u Zámku Brandýs nad Labem\, cena 250 Kč.
LOCATION:Brandýs nad Labem-Stará Boleslav
END:VEVENT
END:VCALENDAR