BEGIN:VCALENDAR
VERSION:2.0
CALSCALE:GREGORIAN
PRODID:-//MyApp//Calendar 1.0//EN
BEGIN:VEVENT
METHOD:PUBLISH
UID:50800@regionalniportaly.cz
DTSTAMP:20260422T141649Z
DTSTART;VALUE=DATE:20250312
DTEND;VALUE=DATE:20250313
SUMMARY:VYPRODÁNO - Na kus řeči s... Taťjanou Medveckou
DESCRIPTION:Vynikající herečka\, dlouholetá členka činohry Národního divadla v Praze\,známá filmová i televizní osobnost usedne do křesla pro hosta vbřeznovém pořadu moderátora Jiřího Vaníčka dne 12.3.2025 v 19:00 v divadelním sále Zámku Brandýs nad Labem. Nenechte si ujít vzácnoupříležitost setkat se s držitelkou Českého lva a dvojnásobnou nositelkouCeny Thálie!\n \nPředprodej vstupenek v Infocentru Kočárovna u Zámku Brandýs nad Labem\, cena 250 Kč.\n 
LOCATION:Brandýs nad Labem-Stará Boleslav
END:VEVENT
END:VCALENDAR