BEGIN:VCALENDAR
VERSION:2.0
CALSCALE:GREGORIAN
PRODID:-//MyApp//Calendar 1.0//EN
BEGIN:VEVENT
METHOD:PUBLISH
UID:48288@regionalniportaly.cz
DTSTAMP:20260422T154355Z
DTSTART;VALUE=DATE:20241221
DTEND;VALUE=DATE:20241222
SUMMARY:X-mas rock party
DESCRIPTION:Koncert mladých rockových kapel z&nbsp\;okolí Benátek nad Jizerou „Blázni na svobodě“ a „Pankyho úlet“.
LOCATION:Brandýs nad Labem-Stará Boleslav
END:VEVENT
END:VCALENDAR