BEGIN:VCALENDAR
VERSION:2.0
CALSCALE:GREGORIAN
PRODID:-//MyApp//Calendar 1.0//EN
BEGIN:VEVENT
METHOD:PUBLISH
UID:46797@regionalniportaly.cz
DTSTAMP:20260422T171112Z
DTSTART;VALUE=DATE:20241206
DTEND;VALUE=DATE:20241207
SUMMARY:Kupředu do minulosti Brandýs - Kociánová\, Dušek\, Hogenová
DESCRIPTION:Kupředu do minulosti&nbsp\;2024 - Brandýs n.L./Stará BoleslavModerátorka Rádia Universum&nbsp\;Martina Kociánová&nbsp\;vystoupí se svými hosty -&nbsp\;Jaroslavem Duškem&nbsp\;a&nbsp\;Annou Hogenovou&nbsp\;na jedinečném setkání svého druhu.Jedinečnou besedu&nbsp\;a osobní setkání se skvělými hosty můžete zažít exkluzivně už 6.12.2024 v Kině Brandýs n.L.&nbsp\;a to od 19 hod.&nbsp\;Vystupující:Martina Kociánová&nbsp\;- česká rozhlasová a televizní moderátorka.&nbsp\;Moderuje ve vlastní produkci na webu Svobodné universum (Rádio Universum) pořad Kupředu do minulosti.Jaroslav Dušek&nbsp\;- český filmový a divadelní herec. Je spoluautorem projektu Malá vizita a vystupuje ve svém vlastním internetovém pořadu Duše K.&nbsp\;Anna Hogenová&nbsp\;- česká kinantropoložka\, filosofka a&nbsp\;profesorka působící na českých vysokých školách.&nbsp\;Kapacita míst je značně omezena.Délka pořadu cca 120 min.Vstupenky v síti smsticket v předprodeji za 450 Kč\, na místě akce pak za 490 Kč.&nbsp\;Máte-li zájem na akci vystavovat/prodávat\, stát se jejím partnerem či ji podpořit\, pište na&nbsp\;info@forsberg.cz
LOCATION:Brandýs nad Labem-Stará Boleslav
END:VEVENT
END:VCALENDAR