BEGIN:VCALENDAR
VERSION:2.0
CALSCALE:GREGORIAN
PRODID:-//MyApp//Calendar 1.0//EN
BEGIN:VEVENT
METHOD:PUBLISH
UID:40395@regionalniportaly.cz
DTSTAMP:20260423T065313Z
DTSTART;VALUE=DATE:20240712
DTEND;VALUE=DATE:20240713
SUMMARY:Koncert filmové hudby | Letní kino Houšťka
DESCRIPTION:Pražský filmový orchestr&nbsp\;pod taktovkou dirigenta Jiřího Korynty přináší velkolepý koncert\, který představí&nbsp\;v&nbsp\;nezapomenutelné atmosféře letních prostor brandýského&nbsp\;letního kina Houšťka&nbsp\;při západu slunce.Diváci&nbsp\;se mohou&nbsp\;těšit na&nbsp\;skladby z filmů&nbsp\;Star Wars\, Pán Prstenů\, Games of Thrones\, Harry Potter\, Piráti z&nbsp\;Karibiku&nbsp\;a další známé melodie stříbrného plátna.Koncert bude bohatý na fantastickou filmovou hudbu od světově známých hudebních skladatelů\, jakými jsou např.&nbsp\;John Williams\,&nbsp\;Hans Zimmer\,&nbsp\;Howard Shore&nbsp\;nebo&nbsp\;James Horner.&nbsp\;PŘEDPRODEJ VSTUPENEK1. vlna - 690\,- Kč (Vyprodáno)2. vlna - 790\,- Kč&nbsp\;3.&nbsp\;vlna - 890\,- Kč&nbsp\;
LOCATION:Brandýs nad Labem-Stará Boleslav
END:VEVENT
END:VCALENDAR