BEGIN:VCALENDAR
VERSION:2.0
CALSCALE:GREGORIAN
PRODID:-//MyApp//Calendar 1.0//EN
BEGIN:VEVENT
METHOD:PUBLISH
UID:36099@regionalniportaly.cz
DTSTAMP:20260421T215848Z
DTSTART;VALUE=DATE:20240201
DTEND;VALUE=DATE:20240202
SUMMARY:Karel Plíhal - Recitál
DESCRIPTION:Karel Plíhal hrající na mandolu s vynikajícím doprovodným kytaristou Petrem Fialou. Zazní známé písně i písně z nově připravované desky. Celé vystoupení je prokládáno básničkami. Pořad není vhodný pro děti a mladistvé do 12 let. Vstupné 390\,-
LOCATION:Čelákovice
END:VEVENT
END:VCALENDAR