BEGIN:VCALENDAR
VERSION:2.0
CALSCALE:GREGORIAN
PRODID:-//MyApp//Calendar 1.0//EN
BEGIN:VEVENT
METHOD:PUBLISH
UID:34896@regionalniportaly.cz
DTSTAMP:20260422T024645Z
DTSTART;VALUE=DATE:20240402
DTEND;VALUE=DATE:20240403
SUMMARY:Po jedné stopě
DESCRIPTION:Bláznivá\,&nbsp\;poučná\, humorná a ohromující beseda s hercem Martinem Písaříkem a cestovatelským MotoGuru Igorem Brezovarem.Herec Martin Písařík a cestovatel Igor Brezovar v rámci projektu&nbsp\;PO JEDNÉ STOPĚ&nbsp\;po&nbsp\;třech letech dokončili svoji cestu&nbsp\;po&nbsp\;Africe. Cesta&nbsp\;po&nbsp\;západním&nbsp\;pobřeží Afriky z Maroka do Kapského města jim dohromady zabrala 7 měsíců\, ujeli 25.000 kilometrů a projeli 21 států. O své zážitky nejen z&nbsp\;poslední etapy\, kterou jste mohli&nbsp\;po&nbsp\;18 večerů sledovat ve vysílání České televize\, se s Vámi přijedou osobně&nbsp\;podělit. Kde se cítili v ohrožení? Jak to zvládli stroje i jejich emoce? Kde jsou nejhezčí ženy? Jak bojovat s malárií? Zkrátka o všem\, co vás zajímá\, co se nevešlo\, nebo "nemohlo" vejít do televize si s vámi rádi&nbsp\;popovídají v neformální atmosféře\, s humorem a otevřeností sobě vlastní. Čas bude i na dotazy diváků\, autogramiádu\, prodej triček a dalších upomínkových předmětů.Délka&nbsp\;pořadu: 120 minut bez přestávky + autogramiáda a focení.Vstupné 390 Kč\, platí sleva ZTP a senior 70+.
LOCATION:Čelákovice
END:VEVENT
END:VCALENDAR