BEGIN:VCALENDAR
VERSION:2.0
CALSCALE:GREGORIAN
PRODID:-//MyApp//Calendar 1.0//EN
BEGIN:VEVENT
METHOD:PUBLISH
UID:34582@regionalniportaly.cz
DTSTAMP:20260421T234612Z
DTSTART;VALUE=DATE:20240412
DTEND;VALUE=DATE:20240413
SUMMARY:Bratři Ebenové
DESCRIPTION:Vstupné 490/245 Kč. Platí sleva ZTP a senior 70+. &nbsp\;&nbsp\;&nbsp\;&nbsp\;
LOCATION:Čelákovice
END:VEVENT
END:VCALENDAR