BEGIN:VCALENDAR
VERSION:2.0
CALSCALE:GREGORIAN
PRODID:-//MyApp//Calendar 1.0//EN
BEGIN:VEVENT
METHOD:PUBLISH
UID:33907@regionalniportaly.cz
DTSTAMP:20260422T002850Z
DTSTART;VALUE=DATE:20240123
DTEND;VALUE=DATE:20240124
SUMMARY:Sexem ke štěstí
DESCRIPTION:Fanny agenturaRežie:&nbsp\;Jakub Zindulka.Obsazení:&nbsp\;Martina Hudečková\,&nbsp\;Vladimír Kratina\,&nbsp\;Jitka Ježková\,&nbsp\;Vilém Udatný&nbsp\;/&nbsp\;Jakub Zindulka&nbsp\;Vztahová komedie. Šedesátiletá Stella je odbornice na intimní manželské hrátky a&nbsp\;za muže má o&nbsp\;dost mladšího Roberta. Norbert je stárnoucí seladon a&nbsp\;za ženu má o&nbsp\;dost mladší Hedviku. Norbert zklamaný intimním životem s&nbsp\;Hedvikou se obrátí s&nbsp\;žádostí o&nbsp\;radu na Stellu a&nbsp\;Robert vyděšený intimním životem se Stellou zatím sbalí Hedviku. Terapeutická sezení se tak začínají poněkud vymykat kontrole...&nbsp\;Pikantní a poněkud ztřeštěná komedie z pera osvědčeného Jakuba Zindulky (který se zároveň ujal režie) vám pořádně polechtá bránice!!! Přestože v představení nepadne jediné vulgární (ba ani ošklivé) slovo\, doporučujeme jej mládeži až od 15ti let.Vstupné 400/360 Kč.&nbsp\;&nbsp\;Platí sleva ZTP a senior 70+.
LOCATION:Čelákovice
END:VEVENT
END:VCALENDAR