BEGIN:VCALENDAR
VERSION:2.0
CALSCALE:GREGORIAN
PRODID:-//MyApp//Calendar 1.0//EN
BEGIN:VEVENT
METHOD:PUBLISH
UID:32653@regionalniportaly.cz
DTSTAMP:20260421T190016Z
DTSTART;VALUE=DATE:20230814
DTEND;VALUE=DATE:20230815
SUMMARY:Vilém Veverka & Trio plus - Dvořákův festival
DESCRIPTION:Poznejte Dvořákův festival na lodi Florentina a užijte si nezapomenutelný večer s prvotřídními umělci přímo na palubě!&nbsp\;Účinkující:&nbsp\;VILÉM VEVERKA – hobojDOCTOR MARTIN HYBLER – klávesové nástrojeONDŘEJ MÁCA ŠTAJNOCHR – kontrabasTOMÁŠ HOBZEK – bicí nástrojeSpeciální host: KAROLÍNA KŘÍŽOVÁ – tanec&nbsp\;Pořadatel:&nbsp\;Dvořákův festival&nbsp\;Program:&nbsp\;„Na lodi - On Board“Chick Corea – Armando´s RhumbaMartin Hybler – Gentleman´s ReturnGeorges Boulanger – GeorgetteLeonard Bernstein – TonightBart Howard – Fly me to the MoonMartin Hybler – Questions MarksChick Corea – SpainAstor Piazzola – Oblivion\, LibertangoClaude Francois – My Way (Comme d‘habitude)&nbsp\;Důležité informace k nalodění:Od 17\,30 možnost večeře v&nbsp\;restauraci&nbsp\;na lodi.Rezervace nutná. Tel.č.: +420&nbsp\;601&nbsp\;001&nbsp\;592
LOCATION:Roudnice nad Labem
END:VEVENT
END:VCALENDAR