BEGIN:VCALENDAR
VERSION:2.0
CALSCALE:GREGORIAN
PRODID:-//MyApp//Calendar 1.0//EN
BEGIN:VEVENT
METHOD:PUBLISH
UID:32652@regionalniportaly.cz
DTSTAMP:20260421T173605Z
DTSTART;VALUE=DATE:20230812
DTEND;VALUE=DATE:20230813
SUMMARY:Antonín Dvořák – RUSALKA - Dvořákův festival
DESCRIPTION:Poznejte Dvořákův festival na lodi Florentina a užijte si nezapomenutelný večer s prvotřídními umělci přímo na palubě!&nbsp\;Účinkující:&nbsp\;Sólisté&nbsp\;Národního divadla v PrazeTEREZA MÁTLOVÁ&nbsp\;– RusalkaLUCIE HILSCHEROVÁ&nbsp\;– JežibabaMARTIN ŠREJMA – PrincJAROSLAV PATOČKA – VodníkZDENĚK KLAUDA – klavírní doprovod&nbsp\;Pořadatel:&nbsp\;Dvořákův festival&nbsp\;Program:&nbsp\;Antonín Dvořák - Rusalka&nbsp\;Důležité informace k nalodění:Od 17\,30 možnost večeře v&nbsp\;restauraci&nbsp\;na lodi.Rezervace nutná. Tel.č.: +420&nbsp\;601&nbsp\;001&nbsp\;592Vyplutí z&nbsp\;Kralup nad Vltavou na koncert v&nbsp\;19\,15 hod.\, po koncertě návrat zpět do Kralup&nbsp\;ve 22\,30 hod.&nbsp\;&nbsp\;
LOCATION:Nelahozeves
END:VEVENT
END:VCALENDAR